BEGIN:VCALENDAR
VERSION:2.0
PRODID:-//Marie-Claire Bordeaux - ECPv4.4.5//NONSGML v1.0//EN
CALSCALE:GREGORIAN
METHOD:PUBLISH
X-WR-CALNAME:Marie-Claire Bordeaux
X-ORIGINAL-URL:https://marieclairebordeaux.com
X-WR-CALDESC:Events for Marie-Claire Bordeaux
BEGIN:VEVENT
DTSTART;VALUE=DATE:20151107
DTEND;VALUE=DATE:20151108
DTSTAMP:20260425T152349
CREATED:20150428T200746Z
LAST-MODIFIED:20150428T200954Z
UID:198-1446854400-1447027199@marieclairebordeaux.com
SUMMARY:18ème Marché de Potiers de Saint Marcel (71)
DESCRIPTION:Ouvert le samedi de 10h à 19h et le dimanche de 10h à 18h.\n\nSur le thème de l'Art de la table.\n\nEntrée 2€.\n\n 
URL:https://marieclairebordeaux.com/evenement/18eme-marche-de-potiers-de-saint-marcel-71/
LOCATION:Saint Marcel\, 71380
END:VEVENT
END:VCALENDAR