BEGIN:VCALENDAR
VERSION:2.0
PRODID:-//Marie-Claire Bordeaux - ECPv4.4.5//NONSGML v1.0//EN
CALSCALE:GREGORIAN
METHOD:PUBLISH
X-WR-CALNAME:Marie-Claire Bordeaux
X-ORIGINAL-URL:https://marieclairebordeaux.com
X-WR-CALDESC:Events for Marie-Claire Bordeaux
BEGIN:VEVENT
DTSTART;VALUE=DATE:20161209
DTEND;VALUE=DATE:20161211
DTSTAMP:20260425T165732
CREATED:20161129T105022Z
LAST-MODIFIED:20161129T105525Z
UID:288-1481241600-1481500799@marieclairebordeaux.com
SUMMARY:31ème Salon des Métiers d'Art 2016\, à Four (Nord Isère\, 40 min de Lyon))
DESCRIPTION:35 Artisans d’art et créateurs professionnels exposent les 9\, 10\, 11 décembre 2016 à Four. Ouvert vendredi\, samedi\, de 10h à 19h\, et dimanche de 10h à 18h. Entrée et parking gratuits.\n\nDétail des exposants sur le site www.creart-artisans-art.org\n\nLien Facebook Pro (accessible sans mot de passe) avec présentation des exposants :\n\nhttps://www.facebook.com/salonarticad38/\n\nAnimations prévues sur le week end : atelier chantournage pour les enfants à partir de 6 ans\, sur réservations uniquement (infos sur le site www.creart-artisans-art.org)\n\net présentation du travail des étudiants du Lycée Jean-Claude Aubry en ébénisterie-tapisserie-ameublement (espace détente au sein du salon)\, plus d'infos sur le lien ci-dessus.\n\nprogramme-a-telecharger-recto\n\nprogramme-a-telecharger-verso
URL:https://marieclairebordeaux.com/evenement/31eme-salon-des-metiers-dart-2016-a-four-nord-isere-40-min-de-lyon/
LOCATION:Four\, 38080\, France Métropolitaine
ATTACH;FMTTYPE=image/jpeg:https://marieclairebordeaux.com/wp-content/uploads/2016/11/Affiche-Four-2016.jpg
END:VEVENT
END:VCALENDAR