BEGIN:VCALENDAR
VERSION:2.0
PRODID:-//Marie-Claire Bordeaux - ECPv4.4.5//NONSGML v1.0//EN
CALSCALE:GREGORIAN
METHOD:PUBLISH
X-WR-CALNAME:Marie-Claire Bordeaux
X-ORIGINAL-URL:https://marieclairebordeaux.com
X-WR-CALDESC:Events for Marie-Claire Bordeaux
BEGIN:VEVENT
DTSTART;VALUE=DATE:20150808
DTEND;VALUE=DATE:20150809
DTSTAMP:20260425T203832
CREATED:20150316T151717Z
LAST-MODIFIED:20150316T151717Z
UID:160-1438992000-1439164799@marieclairebordeaux.com
SUMMARY:4ème Festival de céramique du Couvent de Treigny (89)
DESCRIPTION:\n\nSamedi 8 et dimanche 9 août 2015. Entrée libre.\nLe festival de céramique est l'occasion de découvrir diverses animations autour de la céramique réunies en un même lieu et un seul week-end\, de 10 h à 19 h :\n\n\t25ème marché potier\, 35 exposants installés dans le verger.\n\t13ème Entretiens de Treigny : diffusion en boucle des films sur la céramique.\n\tConférences.\n\n\n\n\n\n\n\tWorkshops : démonstrations de savoir-faire.\n\tCuisson au bois samedi et défournement dimanche à 17 h.\n\tAtelier de modelage gratuit pour les enfants\, samedi et dimanche\, de 10 h à 12 h et de 15 h à 18 h.\n\tLoterie\, le gagnant aura la chance de repartir avec la pièce de son choix d'une valeur de 200€ (tirage dimanche à 18 h).\n\tRestauration et buvette.\n\tEt bien évidemment vous pourrez également voir\, ou revoir l'exposition au Couvent\, durant les 2 jours\, de 10 h à 19 h.\n\n\n
URL:https://marieclairebordeaux.com/evenement/4eme-festival-de-ceramique-du-couvent-de-treigny-89/
LOCATION:Treigny\, France
ATTACH;FMTTYPE=image/jpeg:https://marieclairebordeaux.com/wp-content/uploads/2015/03/Festival-couvent-treigny.jpg
END:VEVENT
END:VCALENDAR