BEGIN:VCALENDAR
VERSION:2.0
PRODID:-//Marie-Claire Bordeaux - ECPv4.4.5//NONSGML v1.0//EN
CALSCALE:GREGORIAN
METHOD:PUBLISH
X-WR-CALNAME:Marie-Claire Bordeaux
X-ORIGINAL-URL:https://marieclairebordeaux.com
X-WR-CALDESC:Events for Marie-Claire Bordeaux
BEGIN:VEVENT
DTSTART;VALUE=DATE:20150530
DTEND;VALUE=DATE:20150531
DTSTAMP:20260425T202616
CREATED:20150316T134115Z
LAST-MODIFIED:20150521T123036Z
UID:145-1432944000-1433116799@marieclairebordeaux.com
SUMMARY:7ème Marché de Potiers Créateurs\, Besançon
DESCRIPTION:programme à télécharger ici\n\nSamedi et dimanche de 10h à 19h.\n\nEntrée libre.
URL:https://marieclairebordeaux.com/evenement/7eme-marche-de-potiers-createurs-besancon/
LOCATION:Besançon\, 25000\, France
ATTACH;FMTTYPE=image/jpeg:https://marieclairebordeaux.com/wp-content/uploads/2015/03/affiche-potiers-2015-web1.jpg
END:VEVENT
END:VCALENDAR