BEGIN:VCALENDAR
VERSION:2.0
PRODID:-//Marie-Claire Bordeaux - ECPv4.4.5//NONSGML v1.0//EN
CALSCALE:GREGORIAN
METHOD:PUBLISH
X-WR-CALNAME:Marie-Claire Bordeaux
X-ORIGINAL-URL:https://marieclairebordeaux.com
X-WR-CALDESC:Events for Marie-Claire Bordeaux
BEGIN:VEVENT
DTSTART;VALUE=DATE:20150404
DTEND;VALUE=DATE:20150405
DTSTAMP:20260425T203557
CREATED:20150301T184501Z
LAST-MODIFIED:20150330T114029Z
UID:84-1428105600-1428278399@marieclairebordeaux.com
SUMMARY:80 potiers dans les Tulipes\, Morges
DESCRIPTION:Samedi 4 avril et dimanche 5 avril de 9h à 18h.\n\nEntrée libre.\n\nhttp://morges.potiers.ch/\n\n \n\n<< cliquer sur l'affiche pour agrandir...
URL:https://marieclairebordeaux.com/evenement/80-potiers-dans-les-tulipes-a-morges-lausanne/
LOCATION:au bord du lac\, à coté du château\, Morges
ATTACH;FMTTYPE=image/png:https://marieclairebordeaux.com/wp-content/uploads/2015/03/Affiche-tulipes.png
END:VEVENT
END:VCALENDAR