BEGIN:VCALENDAR
VERSION:2.0
PRODID:-//Marie-Claire Bordeaux - ECPv4.4.5//NONSGML v1.0//EN
CALSCALE:GREGORIAN
METHOD:PUBLISH
X-WR-CALNAME:Marie-Claire Bordeaux
X-ORIGINAL-URL:https://marieclairebordeaux.com
X-WR-CALDESC:Events for Marie-Claire Bordeaux
BEGIN:VEVENT
DTSTART;VALUE=DATE:20160813
DTEND;VALUE=DATE:20160815
DTSTAMP:20260425T153621
CREATED:20160711T214127Z
LAST-MODIFIED:20160711T214127Z
UID:275-1471046400-1471305599@marieclairebordeaux.com
SUMMARY:Artisans au Grand Cours à Pontarlier
DESCRIPTION:Du samedi 13 août au dimanche 14 août: 10 h à 20 h\nLe lundi 15 août : 10 h à 19 h\n\nBois\, terre\, métal\, tissus\, bijoux\, verre\, cuir...liste des 75 exposants sur :\n\nhttp://www.artisans-grand-cours.com/exposants.html\n\nAnimations musicales\, détail sur :\n\nhttp://www.artisans-grand-cours.com/animations.html
URL:https://marieclairebordeaux.com/evenement/artisans-au-grand-cours-a-pontarlier/
LOCATION:Pontarlier\, 25300\, France
ATTACH;FMTTYPE=image/jpeg:https://marieclairebordeaux.com/wp-content/uploads/2016/07/Artisans-Grand-cours-2016.jpg
END:VEVENT
END:VCALENDAR