BEGIN:VCALENDAR
VERSION:2.0
PRODID:-//Marie-Claire Bordeaux - ECPv4.4.5//NONSGML v1.0//EN
CALSCALE:GREGORIAN
METHOD:PUBLISH
X-WR-CALNAME:Marie-Claire Bordeaux
X-ORIGINAL-URL:https://marieclairebordeaux.com
X-WR-CALDESC:Events for Marie-Claire Bordeaux
BEGIN:VEVENT
DTSTART;VALUE=DATE:20150704
DTEND;VALUE=DATE:20150830
DTSTAMP:20260425T183536
CREATED:20150428T073629Z
LAST-MODIFIED:20150716T115856Z
UID:186-1435968000-1440979199@marieclairebordeaux.com
SUMMARY:Boutique d'été Couleurs et Matières à Château Chalon
DESCRIPTION:Exposition Art et Artisanat\, ouvert tous les jours  du 4 juillet au 30 août\, de 11h à 13h et de 15h à 19h.\n\nBijoux de Geneviève Cailleteau\n\nBois : Roger Chetail\n\nCuirs : Philippe et Marianne Charmier\n\nGrès et porcelaine : Marie-Claire Bordeaux\n\nLaine : Christine Devost\n\nPeinture : Mireille Grille\n\nSoie : Sylviane Buffenoir\n\nVêtements : Marie Rivière\n\nSi vous souhaitez me rencontrer\, je serai présente à la boutique les 13\, 20\, 24 et 27 juillet la journée; 3\, 16 et 20 août la journée\, et le 17 juillet le soir (19h-22h30) pour le marché nocturne de Chateau Chalon (animations\, concert\, producteurs et artisans locaux\, contacter Claire Bouffard au 03 84 44 62 47 ou au 03 84 24 76 05 pour plus d'informations sur le marché nocturne).\n\nEntrée libre.\n\n 
URL:https://marieclairebordeaux.com/evenement/boutique-dete-couleurs-et-matieres-a-chateau-chalon/
LOCATION:Château Chalon\, 39210
ATTACH;FMTTYPE=image/jpeg:https://marieclairebordeaux.com/wp-content/uploads/2015/04/Couleurs-et-Matieres.jpg
END:VEVENT
END:VCALENDAR