BEGIN:VCALENDAR
VERSION:2.0
PRODID:-//Marie-Claire Bordeaux - ECPv4.4.5//NONSGML v1.0//EN
CALSCALE:GREGORIAN
METHOD:PUBLISH
X-WR-CALNAME:Marie-Claire Bordeaux
X-ORIGINAL-URL:https://marieclairebordeaux.com
X-WR-CALDESC:Events for Marie-Claire Bordeaux
BEGIN:VEVENT
DTSTART;VALUE=DATE:20160402
DTEND;VALUE=DATE:20160403
DTSTAMP:20260425T132911
CREATED:20160318T212811Z
LAST-MODIFIED:20160318T213620Z
UID:245-1459555200-1459727999@marieclairebordeaux.com
SUMMARY:Céramique et les Arts du Feu à Château-Chalon
DESCRIPTION:Samedi 2 et dimanche 3 avril 2016\, de 10h00 à 19h00\, au centre du village\,\n\ndans le cadre des Journées Européennes des Métiers d'Art\n\nExposition collection de céramiques de J-F Juilliard\nnombreux créateurs d'art\nanimations\, restauration\nvocal jazz par RN83 (samedi 2 avril à 19h30)\n\nListe et présentation détaillée des exposants dans le programme à télécharger ci-dessous :\n\nProgramme a telecharger ici\n\nAffiche JEMA 2016
URL:https://marieclairebordeaux.com/evenement/ceramique-et-les-arts-du-feu-a-chateau-chalon/
LOCATION:au centre du village\, Château-Chalon\, France
ATTACH;FMTTYPE=image/jpeg:https://marieclairebordeaux.com/wp-content/uploads/2016/03/Capture1.jpg
END:VEVENT
END:VCALENDAR