BEGIN:VCALENDAR
VERSION:2.0
PRODID:-//Marie-Claire Bordeaux - ECPv4.4.5//NONSGML v1.0//EN
CALSCALE:GREGORIAN
METHOD:PUBLISH
X-WR-CALNAME:Marie-Claire Bordeaux
X-ORIGINAL-URL:https://marieclairebordeaux.com
X-WR-CALDESC:Events for Marie-Claire Bordeaux
BEGIN:VEVENT
DTSTART;VALUE=DATE:20150328
DTEND;VALUE=DATE:20150329
DTSTAMP:20260425T221355
CREATED:20150316T144411Z
LAST-MODIFIED:20150319T214414Z
UID:153-1427500800-1427673599@marieclairebordeaux.com
SUMMARY:L'atelier ouvre ses portes ! Journées Européennes des Métiers d'Art
DESCRIPTION:Samedi et dimanche de 11h à 19h.\nProgramme :\nLa visite de l'atelier permet de re-découvrir le métier de céramiste\, mal connu aujourd'hui. Nous verrons ensemble les diverses techniques de façonnage des pièces\, qui ne se limitent pas simplement au tournage proprement dit. Puis les différentes étapes qui se succèdent\, pendant plusieurs semaines\, pour aboutir à la sortie du four après la deuxième cuisson. Nous parlerons de la terre\, de sa préparation\, du séchage et du tournassage des pièces\, de la décoration\, avant et après la première cuisson\, des recherches d'émail ou d'engobes qui se font en amont\, des cuissons...tout cela avec possibilités de démonstration en fonction de la demande du visiteur.\n\nL’atelier se situe au\n\n185 rue Désiré Monnier\, 39210 Domblans\n\nLa rue étant en sens unique\, prendre la direction « Poste-Ecole-Mairie »\, depuis la route principale Voiteur – Saint-Germain-lès-Arlay. C’est la maison aux volets bleus en face de l’école\, sur la droite après la Poste…\n\n \n\nEntrée libre.\n\n\n\nPlus d'information (PDF)\n\n \n\n 
URL:https://marieclairebordeaux.com/evenement/latelier-ouvre-ses-portes-journees-europeennes-des-metiers-dart/
LOCATION:185 Rue Désiré Monnier\, Domblans\, France
ATTACH;FMTTYPE=image/png:https://marieclairebordeaux.com/wp-content/uploads/2015/03/logo-jema-big.png
END:VEVENT
END:VCALENDAR