BEGIN:VCALENDAR
VERSION:2.0
PRODID:-//Marie-Claire Bordeaux - ECPv4.4.5//NONSGML v1.0//EN
CALSCALE:GREGORIAN
METHOD:PUBLISH
X-WR-CALNAME:Marie-Claire Bordeaux
X-ORIGINAL-URL:https://marieclairebordeaux.com
X-WR-CALDESC:Events for Marie-Claire Bordeaux
BEGIN:VEVENT
DTSTART;VALUE=DATE:20170909
DTEND;VALUE=DATE:20170910
DTSTAMP:20260425T220700
CREATED:20170723T142828Z
LAST-MODIFIED:20170723T142828Z
UID:331-1504915200-1505087999@marieclairebordeaux.com
SUMMARY:Les Tupiniers du Vieux Lyon\, 9 et 10 septembre 2017
DESCRIPTION:140 potiers à votre rencontre\, quartier St Jean dans le Vieux Lyon.\n\nSamedi 9 et dimanche 10 septembre 2017\, de 9h à 19h.\n\nCette année\, le thème choisi est "Terre\, Bois et Feu"\, détails en cliquant sue ce lien :\n\n\n\nVous pourrez m'y trouver cette année à l'emplacement 57\, sur la place Saint jean (plans fournis sur place).\n\nEntrée libre et gratuite.
URL:https://marieclairebordeaux.com/evenement/les-tupiniers-du-vieux-lyon-9-et-10-septembre-2017/
LOCATION:Quartier St Jean (5eme)\, Lyon\, 69005\, France
ATTACH;FMTTYPE=image/png:https://marieclairebordeaux.com/wp-content/uploads/2017/07/Tupiniers-2017.png
END:VEVENT
END:VCALENDAR