BEGIN:VCALENDAR
VERSION:2.0
PRODID:-//Marie-Claire Bordeaux - ECPv4.4.5//NONSGML v1.0//EN
CALSCALE:GREGORIAN
METHOD:PUBLISH
X-WR-CALNAME:Marie-Claire Bordeaux
X-ORIGINAL-URL:https://marieclairebordeaux.com
X-WR-CALDESC:Events for Marie-Claire Bordeaux
BEGIN:VEVENT
DTSTART;VALUE=DATE:20171202
DTEND;VALUE=DATE:20171203
DTSTAMP:20260425T221703
CREATED:20171126T170853Z
LAST-MODIFIED:20171126T170853Z
UID:337-1512172800-1512345599@marieclairebordeaux.com
SUMMARY:Marché de Noël de Baume les Messieurs\, 2 et 3 décembre 2017
DESCRIPTION:Samedi 2 et dimanche 3 décembre 2017\, à l'Abbaye de Baume-les-Messieurs.\n\nCette année vous pourrez me retrouver dans la petite salle de la Cure\, qui se situe à droite\, dans la 2eme cours de l'abbaye\, et non dans la salle départementale comme les années précédentes!\n\nIl y aura 50 exposants\, des illuminations\, des concerts\, des animations pour enfants\, restauration\, buvette...\n\nPour plus d'infos concernant le programme et les horaires\, se renseigner auprès de la Mairie de Baume-les-Messieurs au 03 84 44 61 41.
URL:https://marieclairebordeaux.com/evenement/marche-de-noel-de-baume-les-messieurs-2-et-3-decembre-2017/
LOCATION:Baume-les-Messieurs\, 39210
ATTACH;FMTTYPE=image/jpeg:https://marieclairebordeaux.com/wp-content/uploads/2017/11/AFFICHE-MARCHE-NOEL-2017.jpg
END:VEVENT
END:VCALENDAR