BEGIN:VCALENDAR
VERSION:2.0
PRODID:-//Marie-Claire Bordeaux - ECPv4.4.5//NONSGML v1.0//EN
CALSCALE:GREGORIAN
METHOD:PUBLISH
X-WR-CALNAME:Marie-Claire Bordeaux
X-ORIGINAL-URL:https://marieclairebordeaux.com
X-WR-CALDESC:Events for Marie-Claire Bordeaux
BEGIN:VEVENT
DTSTART;VALUE=DATE:20161218
DTEND;VALUE=DATE:20161218
DTSTAMP:20260425T165830
CREATED:20161129T112404Z
LAST-MODIFIED:20161129T112459Z
UID:297-1482019200-1482105599@marieclairebordeaux.com
SUMMARY:Marché de Noël de producteurs à Juraparc\, Lons-le-Saunier
DESCRIPTION:Marché de Noël de producteurs à Juraparc\, Lons-le-Saunier\, dimanche 18 décembre de 10h à 19h\, organisé par l'association "entre producteurs".\n\nEntrée libre\, parking gratuit.\n\nhttp://www.entreproducteurs.fr/archives/p1-1.html
URL:https://marieclairebordeaux.com/evenement/marche-de-noel-de-producteurs-a-juraparc-lons-le-saunier/
LOCATION:Lons-le-Saunier\, 39000
ATTACH;FMTTYPE=image/jpeg:https://marieclairebordeaux.com/wp-content/uploads/2016/11/Affiche-2016.jpg
END:VEVENT
END:VCALENDAR