BEGIN:VCALENDAR
VERSION:2.0
PRODID:-//Marie-Claire Bordeaux - ECPv4.4.5//NONSGML v1.0//EN
CALSCALE:GREGORIAN
METHOD:PUBLISH
X-WR-CALNAME:Marie-Claire Bordeaux
X-ORIGINAL-URL:https://marieclairebordeaux.com
X-WR-CALDESC:Events for Marie-Claire Bordeaux
BEGIN:VEVENT
DTSTART;VALUE=DATE:20150516
DTEND;VALUE=DATE:20150516
DTSTAMP:20260425T221605
CREATED:20150301T185621Z
LAST-MODIFIED:20150508T093439Z
UID:91-1431734400-1431820799@marieclairebordeaux.com
SUMMARY:12ème Marché de Potiers de Die
DESCRIPTION:Samedi 16 mai Place du Mazel\, 9h-19h.\n\nAteliers pour enfants (gratuit)\, démonstrations de tournage\, Projection de films sur la céramique\n\nConcert Ivan Levasseur\n\nEntrée libre.\n\nProgramme a telecharger
URL:https://marieclairebordeaux.com/evenement/marche-de-potiers-de-die/
LOCATION:Die\, France
ATTACH;FMTTYPE=image/jpeg:https://marieclairebordeaux.com/wp-content/uploads/2015/03/marché-des-potiers-de-die-2013.jpg
END:VEVENT
END:VCALENDAR