BEGIN:VCALENDAR
VERSION:2.0
PRODID:-//Marie-Claire Bordeaux - ECPv4.4.5//NONSGML v1.0//EN
CALSCALE:GREGORIAN
METHOD:PUBLISH
X-WR-CALNAME:Marie-Claire Bordeaux
X-ORIGINAL-URL:https://marieclairebordeaux.com
X-WR-CALDESC:Events for Marie-Claire Bordeaux
BEGIN:VEVENT
DTSTART;VALUE=DATE:20160521
DTEND;VALUE=DATE:20160522
DTSTAMP:20260425T152644
CREATED:20160318T214739Z
LAST-MODIFIED:20160501T200512Z
UID:254-1463788800-1463961599@marieclairebordeaux.com
SUMMARY:Marché de potiers de Meillonnas (près de Bourg en Bresse)
DESCRIPTION:45 céramistes\, samedi 10h-18h et dimanche 9h-18h\, animations terre pour les enfants\n\n 
URL:https://marieclairebordeaux.com/evenement/marche-de-potiers-de-meillonnas-pres-de-bourg-en-bresse/
LOCATION:01370
ATTACH;FMTTYPE=image/jpeg:https://marieclairebordeaux.com/wp-content/uploads/2016/03/Meillonnas-affiche.jpg
END:VEVENT
END:VCALENDAR