BEGIN:VCALENDAR
VERSION:2.0
PRODID:-//Marie-Claire Bordeaux - ECPv4.4.5//NONSGML v1.0//EN
CALSCALE:GREGORIAN
METHOD:PUBLISH
X-WR-CALNAME:Marie-Claire Bordeaux
X-ORIGINAL-URL:https://marieclairebordeaux.com
X-WR-CALDESC:Events for Marie-Claire Bordeaux
BEGIN:VEVENT
DTSTART;VALUE=DATE:20150712
DTEND;VALUE=DATE:20150712
DTSTAMP:20260425T183649
CREATED:20150428T055355Z
LAST-MODIFIED:20150428T061033Z
UID:181-1436659200-1436745599@marieclairebordeaux.com
SUMMARY:Marché Artisanal et Gourmand de Geruge (39)
DESCRIPTION:Le dimanche à partir de 10h.\n\nEntrée libre.
URL:https://marieclairebordeaux.com/evenement/petit-marche-artisanal-et-gourmand-de-geruge-39/
LOCATION:Geruge\, 39570\, France
END:VEVENT
END:VCALENDAR