BEGIN:VCALENDAR
VERSION:2.0
PRODID:-//Marie-Claire Bordeaux - ECPv4.4.5//NONSGML v1.0//EN
CALSCALE:GREGORIAN
METHOD:PUBLISH
X-WR-CALNAME:Marie-Claire Bordeaux
X-ORIGINAL-URL:https://marieclairebordeaux.com
X-WR-CALDESC:Events for Marie-Claire Bordeaux
BEGIN:VEVENT
DTSTART;VALUE=DATE:20150707
DTEND;VALUE=DATE:20150825
DTSTAMP:20260425T170107
CREATED:20150428T195243Z
LAST-MODIFIED:20150428T195243Z
UID:195-1436227200-1440547199@marieclairebordeaux.com
SUMMARY:Visites d'été de l'atelier\, Domblans (39)
DESCRIPTION:L'atelier se situe au coeur de la Haute Seille\, à 5 km de Château Chalon et 10 km de Baume-les-Messieurs.\n\nLa visite de l'atelier peut aisément se coupler à une visite de la région\, entre vignobles et reculées.\n\nVenez redécouvrir le métier de potier\, ou céramiste : je vous expliquerai toutes les étapes de fabrication de mes pièces\, du façonnage aux différentes cuissons\, en passant par l'élaboration des émaux\, la décoration...\n\nL'atelier étant petit\, réservation obligatoire au 06 52 17 33 24.\n\nVisite tous les mardis de juillet et aout de 17h30 à 18h30.\n\nVisite gratuite.
URL:https://marieclairebordeaux.com/evenement/visites-dete-de-latelier-domblans-39/
LOCATION:185 Rue Désiré Monnier\, Domblans\, France
ATTACH;FMTTYPE=image/jpeg:https://marieclairebordeaux.com/wp-content/uploads/2015/04/P1010857.jpg
END:VEVENT
END:VCALENDAR